BEGIN:VCALENDAR
VERSION:2.0
PRODID:-//pretix//pretix.eu//
BEGIN:VTIMEZONE
TZID:Europe/Berlin
BEGIN:STANDARD
DTSTART:20001029T040000
RRULE:FREQ=YEARLY;BYDAY=-1SU;BYMONTH=10
TZNAME:CET
TZOFFSETFROM:+0200
TZOFFSETTO:+0100
END:STANDARD
BEGIN:DAYLIGHT
DTSTART:20000326T030000
RRULE:FREQ=YEARLY;BYDAY=-1SU;BYMONTH=3
TZNAME:CEST
TZOFFSETFROM:+0100
TZOFFSETTO:+0200
END:DAYLIGHT
END:VTIMEZONE
BEGIN:VEVENT
UID:pretix-gvl1875-vt-veranstaltung-4493459@gvl1875.vereinsticket.de
DTSTART;TZID=Europe/Berlin:20250613T200000
DTEND;TZID=Europe/Berlin:20250613T210000
DESCRIPTION:Tickets: https://gvl1875.vereinsticket.de/vt-veranstaltung/4493
 459/\nEinlass: 13.06.2025 19:30\nVeranstalter: Gesangverein Liederkranz 18
 75 Bremthal e.V.
DTSTAMP:20260423T011744Z
LOCATION:Festplatz Bremthal\, L3017\, 65817 Eppstein
SUMMARY:Buffalo & Wallace GVL Bremthal
END:VEVENT
END:VCALENDAR
