BEGIN:VCALENDAR
VERSION:2.0
PRODID:-//pretix//pretix.eu//
BEGIN:VTIMEZONE
TZID:Europe/Berlin
BEGIN:STANDARD
DTSTART:20001029T040000
RRULE:FREQ=YEARLY;BYDAY=-1SU;BYMONTH=10
TZNAME:CET
TZOFFSETFROM:+0200
TZOFFSETTO:+0100
END:STANDARD
BEGIN:DAYLIGHT
DTSTART:20000326T030000
RRULE:FREQ=YEARLY;BYDAY=-1SU;BYMONTH=3
TZNAME:CEST
TZOFFSETFROM:+0100
TZOFFSETTO:+0200
END:DAYLIGHT
END:VTIMEZONE
BEGIN:VEVENT
UID:pretix-gvl1875-vt-veranstaltung-4524389@gvl1875.vereinsticket.de
DTSTART;TZID=Europe/Berlin:20250614T190000
DTEND;TZID=Europe/Berlin:20250614T200000
DESCRIPTION:Tickets: https://gvl1875.vereinsticket.de/vt-veranstaltung/4524
 389/\nEinlass: 14.06.2025 18:15\nVeranstalter: Gesangverein Liederkranz 18
 75 Bremthal e.V.
DTSTAMP:20260423T011854Z
LOCATION:Festplatz Bremthal\, L3017\, 65817 Eppstein
SUMMARY:Jubiläums Gala Abend des GVL Bremthal
END:VEVENT
END:VCALENDAR
